BEGIN:VCALENDAR
VERSION:2.0
PRODID:-//Tukios.com/
BEGIN:VEVENT
UID:ba50ea24-4523-448d-8178-f3dbfd14e802@www.peguesfuneralhome.com
DTSTAMP:20260422T191446Z
DTSTART:20260425T190000Z
DTEND:20260425T200000Z
SUMMARY:Celebration of Life
DESCRIPTION:
URL:https://www.peguesfuneralhome.com/obituaries/wesley-boland
LOCATION: 535 W jefferson St  Tupelo MS 38804
GEO:34.2585752;-88.7102247
END:VEVENT
END:VCALENDAR