BEGIN:VCALENDAR
VERSION:2.0
PRODID:-//Tukios.com/
BEGIN:VEVENT
UID:66ec59df-d650-4808-bcbd-9e189e2d65d8@www.peguesfuneralhome.com
DTSTAMP:20260422T191557Z
DTSTART:20260424T220000Z
DTEND:20260425T010000Z
SUMMARY:Visitation
DESCRIPTION:
URL:https://www.peguesfuneralhome.com/obituaries/wesley-boland
LOCATION: 535 W jefferson St  Tupelo MS 38804
GEO:34.2585752;-88.7102247
END:VEVENT
END:VCALENDAR