BEGIN:VCALENDAR
VERSION:2.0
PRODID:-//Tukios.com/
BEGIN:VEVENT
UID:97a31ff8-f711-4722-b9e8-fda45fde10f2@www.peguesfuneralhome.com
DTSTAMP:20260423T021120Z
DTSTART:20260424T170000Z
DTEND:20260424T180000Z
SUMMARY:Celebration of Life
DESCRIPTION:
URL:https://www.peguesfuneralhome.com/obituaries/mary-wages
LOCATION: 9011 Mississippi 6  Pontotoc MS 38863
GEO:34.282545;-89.1474567
END:VEVENT
END:VCALENDAR