BEGIN:VCALENDAR
VERSION:2.0
PRODID:-//Tukios.com/
BEGIN:VEVENT
UID:aa497b1d-a34c-4409-aa81-683836ead8f4@www.peguesfuneralhome.com
DTSTAMP:20260423T021509Z
DTSTART:20260423T210000Z
DTEND:20260423T230000Z
SUMMARY:Visitation
DESCRIPTION:
URL:https://www.peguesfuneralhome.com/obituaries/mary-wages
LOCATION: 9011 Mississippi 6  Pontotoc MS 38863
GEO:34.282545;-89.1474567
END:VEVENT
END:VCALENDAR