BEGIN:VCALENDAR
VERSION:2.0
PRODID:-//Tukios.com/
BEGIN:VEVENT
UID:1b758f4a-9694-4b5a-92cb-93429853c061@www.peguesfuneralhome.com
DTSTAMP:20260425T003328Z
DTSTART:20260427T170000Z
DTEND:20260427T180000Z
SUMMARY:Celebration of Life
DESCRIPTION:
URL:https://www.peguesfuneralhome.com/obituaries/charlotte-jane-horton-coggins
LOCATION: 737 Old Hwy 45  Saltillo MS 38866
GEO:34.37072;-88.7162736
END:VEVENT
END:VCALENDAR