BEGIN:VCALENDAR
VERSION:2.0
PRODID:-//Tukios.com/
BEGIN:VEVENT
UID:be8a82ef-29b4-4ecd-8394-a529ecc60681@www.peguesfuneralhome.com
DTSTAMP:20260425T003200Z
DTSTART:20260427T170000Z
DTEND:20260427T190000Z
SUMMARY:Visitation
DESCRIPTION:
URL:https://www.peguesfuneralhome.com/obituaries/charlotte-jane-horton-coggins
LOCATION: 737 Old Hwy 45  Saltillo MS 38866
GEO:34.37072;-88.7162736
END:VEVENT
END:VCALENDAR